BEGIN:VCALENDAR
VERSION:2.0
PRODID:-//St. Louis Center - ECPv6.15.20//NONSGML v1.0//EN
CALSCALE:GREGORIAN
METHOD:PUBLISH
X-ORIGINAL-URL:https://stlouiscenter.org
X-WR-CALDESC:Events for St. Louis Center
REFRESH-INTERVAL;VALUE=DURATION:PT1H
X-Robots-Tag:noindex
X-PUBLISHED-TTL:PT1H
BEGIN:VTIMEZONE
TZID:America/Detroit
BEGIN:DAYLIGHT
TZOFFSETFROM:-0500
TZOFFSETTO:-0400
TZNAME:EDT
DTSTART:20250309T070000
END:DAYLIGHT
BEGIN:STANDARD
TZOFFSETFROM:-0400
TZOFFSETTO:-0500
TZNAME:EST
DTSTART:20251102T060000
END:STANDARD
BEGIN:DAYLIGHT
TZOFFSETFROM:-0500
TZOFFSETTO:-0400
TZNAME:EDT
DTSTART:20260308T070000
END:DAYLIGHT
BEGIN:STANDARD
TZOFFSETFROM:-0400
TZOFFSETTO:-0500
TZNAME:EST
DTSTART:20261101T060000
END:STANDARD
BEGIN:DAYLIGHT
TZOFFSETFROM:-0500
TZOFFSETTO:-0400
TZNAME:EDT
DTSTART:20270314T070000
END:DAYLIGHT
BEGIN:STANDARD
TZOFFSETFROM:-0400
TZOFFSETTO:-0500
TZNAME:EST
DTSTART:20271107T060000
END:STANDARD
END:VTIMEZONE
BEGIN:VEVENT
DTSTART;TZID=America/Detroit:20260511T183000
DTEND;TZID=America/Detroit:20260511T200000
DTSTAMP:20260423T042454
CREATED:20260414T184430Z
LAST-MODIFIED:20260417T212520Z
UID:23792-1778524200-1778529600@stlouiscenter.org
SUMMARY:Follow the Yellow Brick Road to St. Louis Center
DESCRIPTION:Open Spot Theatre Presents The Wizard of Oz\nThere’s no place like live theatre\, especially when it’s filled with heart\, courage\, laughter\, and the incredible talents of St. Louis Center residents. \nSince 2012\, Open Spot Theatre has been transforming lives through music\, movement\, and creative expression. Their inclusive programs are designed for people of ALL abilities\, from students with developmental disabilities to seniors\, creating a space where everyone can shine. Led by trained instructors who are professionals in theatre\, sign language (ASL)\, and special education\, Open Spot’s classes blend singing\, acting\, dancing\, and sign language into unforgettable experiences. \nFor the past several years\, Open Spot Theatre has partnered with St. Louis Center\, and the results have been nothing short of inspiring. Residents have grown in confidence\, developed new skills\, and discovered hidden talents. Together\, they’ve brought stories to life through plays\, short skits\, and even ASL learning\, each performance more impressive than the last. \nNow\, they’re ready to take you somewhere over the rainbow. \nThis spring\, Open Spot Theatre has been working with St. Louis Center residents to create a creative and heartfelt production of The Wizard of Oz. Expect familiar characters\, joyful music\, expressive movement\, and moments that will make you smile\, laugh\, and maybe even tear up a little. \nFrom Dorothy’s journey to the Land of Oz to the friendships formed along the Yellow Brick Road\, this production celebrates courage\, friendship\, and the belief that everyone has something special to offer. \nThis Is a One-Time Performance\nMonday\, May 11thThis will be your only opportunity to experience this live performance. Don’t miss the chance to support the residents and celebrate the hard work they’ve put into bringing this beloved story to life. \nCome cheer them on.Come experience the joy.Come follow the Yellow Brick Road. \nBecause when our residents take the stage\, something truly magical happens. \nMark your calendars today — you won’t want to miss it. \n\n		\n		\n			\n				\n			\n				\n				Jackie L. as Dorothy\n				\n			\n				\n			\n				\n				Lisa R. as Glinda\n				\n			\n				\n			\n				\n				Jacqui P. as the Wicked Witch\n				\n		\n\n 
URL:https://stlouiscenter.org/event/oz-open-spot/
LOCATION:Private: St. Louis Center\, 16195 W Old US Hwy 12\, Chelsea\, MI\, 48118\, United States
CATEGORIES:3
ATTACH;FMTTYPE=image/jpeg:https://stlouiscenter.org/wp-content/uploads/2026/04/26-0511-Wizard_of_Oz-featured.jpg
ORGANIZER;CN="Open Spot Theatre":MAILTO:info@openspottheatre.com
END:VEVENT
END:VCALENDAR