BEGIN:VCALENDAR
VERSION:2.0
PRODID:-//St. Louis Center - ECPv6.15.20//NONSGML v1.0//EN
CALSCALE:GREGORIAN
METHOD:PUBLISH
X-WR-CALNAME:St. Louis Center
X-ORIGINAL-URL:https://stlouiscenter.org
X-WR-CALDESC:Events for St. Louis Center
REFRESH-INTERVAL;VALUE=DURATION:PT1H
X-Robots-Tag:noindex
X-PUBLISHED-TTL:PT1H
BEGIN:VTIMEZONE
TZID:America/Detroit
BEGIN:DAYLIGHT
TZOFFSETFROM:-0500
TZOFFSETTO:-0400
TZNAME:EDT
DTSTART:20240310T070000
END:DAYLIGHT
BEGIN:STANDARD
TZOFFSETFROM:-0400
TZOFFSETTO:-0500
TZNAME:EST
DTSTART:20241103T060000
END:STANDARD
BEGIN:DAYLIGHT
TZOFFSETFROM:-0500
TZOFFSETTO:-0400
TZNAME:EDT
DTSTART:20250309T070000
END:DAYLIGHT
BEGIN:STANDARD
TZOFFSETFROM:-0400
TZOFFSETTO:-0500
TZNAME:EST
DTSTART:20251102T060000
END:STANDARD
BEGIN:DAYLIGHT
TZOFFSETFROM:-0500
TZOFFSETTO:-0400
TZNAME:EDT
DTSTART:20260308T070000
END:DAYLIGHT
BEGIN:STANDARD
TZOFFSETFROM:-0400
TZOFFSETTO:-0500
TZNAME:EST
DTSTART:20261101T060000
END:STANDARD
END:VTIMEZONE
BEGIN:VEVENT
DTSTART;TZID=America/Detroit:20250806T093000
DTEND;TZID=America/Detroit:20250806T183000
DTSTAMP:20260425T091220
CREATED:20250603T185332Z
LAST-MODIFIED:20260314T010427Z
UID:22896-1754472600-1754505000@stlouiscenter.org
SUMMARY:2025 Dad & Lad Golf Outing
DESCRIPTION:2025 DAD & LAD GOLF OUTING\nThe Dad & Lad Golf Outing was created in 1997 to encourage father and son camaraderie. Dedicated and long-time St. Louis Center supporters Mike Chirco and Joe Maniaci are credited with organizing the event with the help of their friend\, Sam Cottone. \nAfter everyone gets their “daily dose of iron” attendees are treated to cocktails and a delicious sit-down dinner. The silent auction and raffle features sought-after items such as iPads\, televisions\, golf equipment\, and much more\, making this one of the year’s most anticipated events! \nPLAY GOLF!\nWhen: Wednesday\, August 6\, 2025\nWhere: Twin Lakes Golf & Swim Club\n455 Twin Lakes Drive\nOakland\, MI 48363\nSchedule:\nCheck In – 9:30am\nShotgun Start – 10am\nDinner – Lunch on course; Dinner after golfing concludes.\nCost:\nIndividual Golfers $300 per player; Foursomes $1\,200\nTo REGISTER GOLFERS & FOURSOMES\, scroll down to the form below \n  \nSPONSORSHIPS!\nDad & Lad sponsorships are a great way to combine community service with corporate recognition. \nCheck out the available sponsorship levels. \n \nLock in Sponsorship Levels Online Here \n\n\nJoin your friends and colleagues for a day of golf all while helping provide the residents who call St. Louis Center home with loving care in a community for people with intellectual and developmental disabilities. \nPrefer to register Golfers and/or Sponsorships by check?\nDownload and print THIS FORM\nthen mail filled out form plus check to\nSt. Louis Center\, Attn Dad & Lad Golf\n16195 W. Old US 12\, Chelsea\, MI 48118. \nWe look forward to seeing you at this year’s outing!\nView Dad & Lad stories from past years. \nOther Snaps from the Past
URL:https://stlouiscenter.org/event/dad-lad-golf-outing/
LOCATION:Twin Lakes Golf Club\, Rochester Hills\, MI\, United States
CATEGORIES:Event Archive,Golf
ATTACH;FMTTYPE=image/jpeg:https://stlouiscenter.org/wp-content/uploads/2022/10/dads-and-lads.jpg
END:VEVENT
END:VCALENDAR