BEGIN:VCALENDAR
VERSION:2.0
PRODID:-//St. Louis Center - ECPv6.15.20//NONSGML v1.0//EN
CALSCALE:GREGORIAN
METHOD:PUBLISH
X-WR-CALNAME:St. Louis Center
X-ORIGINAL-URL:https://stlouiscenter.org
X-WR-CALDESC:Events for St. Louis Center
REFRESH-INTERVAL;VALUE=DURATION:PT1H
X-Robots-Tag:noindex
X-PUBLISHED-TTL:PT1H
BEGIN:VTIMEZONE
TZID:America/Detroit
BEGIN:DAYLIGHT
TZOFFSETFROM:-0500
TZOFFSETTO:-0400
TZNAME:EDT
DTSTART:20240310T070000
END:DAYLIGHT
BEGIN:STANDARD
TZOFFSETFROM:-0400
TZOFFSETTO:-0500
TZNAME:EST
DTSTART:20241103T060000
END:STANDARD
BEGIN:DAYLIGHT
TZOFFSETFROM:-0500
TZOFFSETTO:-0400
TZNAME:EDT
DTSTART:20250309T070000
END:DAYLIGHT
BEGIN:STANDARD
TZOFFSETFROM:-0400
TZOFFSETTO:-0500
TZNAME:EST
DTSTART:20251102T060000
END:STANDARD
BEGIN:DAYLIGHT
TZOFFSETFROM:-0500
TZOFFSETTO:-0400
TZNAME:EDT
DTSTART:20260308T070000
END:DAYLIGHT
BEGIN:STANDARD
TZOFFSETFROM:-0400
TZOFFSETTO:-0500
TZNAME:EST
DTSTART:20261101T060000
END:STANDARD
END:VTIMEZONE
BEGIN:VEVENT
DTSTART;VALUE=DATE:20250714
DTEND;VALUE=DATE:20250715
DTSTAMP:20260425T071918
CREATED:20250402T162531Z
LAST-MODIFIED:20260314T010247Z
UID:22731-1752451200-1752537599@stlouiscenter.org
SUMMARY:2025 IAD Golf Outing
DESCRIPTION:The Italian American Delegates present their \n2025 Golf Outing\n\n  \nCome swing for a cause and make your game count at the 2025 IAD Golf Outing!\nDate: Monday\, July 14\, 2025\nMorning and Afternoon Shotgun Starts \nWhere: Pine Knob Golf Club\n5580 Waldon Dr.\nClarkston\, MI 48348 \n \nBecause of this impactful event\, the IAD is able to support St. Louis Center\, the Boy’s and Girl’s Clubs of Southeast Michigan\, the Children’s Hospital in Detroit\, the Capuchin Soup Kitchen in Detroit\, Friends of Foster Kids\, and two full scholarships at Macomb Community College. \nThey firmly believe in their mission to serve the community by raising money for those who need a helping hand and urge others to do the same. “It’s time to remember that there are many people out there that need our help and we ask that you join the cause.” \nThis event is approaching quickly so if you would like to participate in this un-fore-gettable event. To register\, please download the form attached below and email it to the Italian American Delegates at: IAD501C3@gmail.com as soon as possible! \nClick the image below to download the form! \n\nThe IAD Golf Day generates the majority of its charitable funds from the golfers\, the advertisers in their attractive golf day ad book\, various sponsorship packages\, and generous donations of food and items to support this event. In 2019\, this event raised over $90\,000 to help the underprivileged. The success of their golf day has inspired them to expand by adding a second annual event\, a Gourmet Wild Game Dinner\, which took place on May 7th\, 2024. Both these events support the IAD’s commitment to continue the tradition of giving that started in 1936. \nHelp the IAD help those that are in need OR place an ad in their event booklet. You’ll be glad you did! \n\nIf you are interested in this event\, we guarantee you will be interested in more! We have so many exciting golf outings and summer events coming soon! \nLearn more about Golf Outings to benefit St. Louis Center!
URL:https://stlouiscenter.org/event/iad-golf-outing/
LOCATION:Pine Knob Golf Club\, 5580 Waldon Dr.\, Clarkston\, MI\, 48348\, United States
CATEGORIES:Event Archive,Golf
ATTACH;FMTTYPE=image/jpeg:https://stlouiscenter.org/wp-content/uploads/2025/04/21-0712-IAD-golf-featured.jpg
END:VEVENT
END:VCALENDAR