BEGIN:VCALENDAR
VERSION:2.0
PRODID:-//St. Louis Center - ECPv6.15.20//NONSGML v1.0//EN
CALSCALE:GREGORIAN
METHOD:PUBLISH
X-WR-CALNAME:St. Louis Center
X-ORIGINAL-URL:https://stlouiscenter.org
X-WR-CALDESC:Events for St. Louis Center
REFRESH-INTERVAL;VALUE=DURATION:PT1H
X-Robots-Tag:noindex
X-PUBLISHED-TTL:PT1H
BEGIN:VTIMEZONE
TZID:UTC
BEGIN:STANDARD
TZOFFSETFROM:+0000
TZOFFSETTO:+0000
TZNAME:UTC
DTSTART:20220101T000000
END:STANDARD
END:VTIMEZONE
BEGIN:VEVENT
DTSTART;TZID=UTC:20230119T180000
DTEND;TZID=UTC:20230119T200000
DTSTAMP:20260423T054909
CREATED:20230106T164947Z
LAST-MODIFIED:20230123T201237Z
UID:17579-1674151200-1674158400@stlouiscenter.org
SUMMARY:Movie about Dr. Martin Luther King Jr. and Discussion
DESCRIPTION:Read the press release on this event here. \nThursday\, January 19th at 6:00 pm\, St. Louis Center will be showing a movie on Dr. Martin Luther King Jr. Following the movie\, students from Chelsea High School Key Club (Kiwanis Service Club) and Interact (Rotary Service Club) will lead a discussion on discrimination and the film.\nThis event is part of the Chelsea 2023 Martin Luther King Jr. Days of Service and Social Action. These Days of Service will be Jan. 9-21\, and a complete list of information can be found here. \nMany community groups have organized activities and events for these two weeks to recall the spirit of Dr. King toward service and community involvement. Community members are encouraged to participate in as many activities as they can and to keep track of their work on Challenge Cards. Anyone who completes a row on the card will receive a certificate and small token. \nThe co-sponsors of this year’s events are One World One Family\, The Chelsea District Library\, Chelsea Rotary and the Chelsea Human Rights Commission. The Michigan Municipal League Foundation has provided a $500 Bridge Builder’s grant toward program expenses. \n MLK-Challenge-Cards-2023-FINAL-12-30-22Challenge cards will be available in early January at the Chelsea District Library\, City Council offices or at participating businesses. They can also be downloaded at www.owofchelsea.org/mlk2023. \nThe Challenge cards will include the activity details. Completed cards can be turned in at the library\, brought to the closing event\, or sent by email to owofchelsea@gmail.com. \nA closing event for the Days of Service and Social Action will be held on Sunday\, Jan. 22 at 3:30 p.m. at the library. This event will include a dramatic reading of Dr. King’s I Have a Dream Speech and presentation of the awards for completed Challenge Cards. \nAs seen in:
URL:https://stlouiscenter.org/event/movie-about-dr-martin-luther-king-jr-and-discussion/
LOCATION:MI
CATEGORIES:Event Archive
ATTACH;FMTTYPE=image/jpeg:https://stlouiscenter.org/wp-content/uploads/2023/01/bee-calder-NIW5JjIEcuc-unsplash-scaled-e1673023189513.jpg
END:VEVENT
END:VCALENDAR